BEGIN:VCALENDAR
VERSION:2.0
PRODID:-//Minnesota State Transportation Center of Excellence - ECPv6.15.20//NONSGML v1.0//EN
CALSCALE:GREGORIAN
METHOD:PUBLISH
X-WR-CALNAME:Minnesota State Transportation Center of Excellence
X-ORIGINAL-URL:https://www.minntran.org
X-WR-CALDESC:Events for Minnesota State Transportation Center of Excellence
REFRESH-INTERVAL;VALUE=DURATION:PT1H
X-Robots-Tag:noindex
X-PUBLISHED-TTL:PT1H
BEGIN:VTIMEZONE
TZID:America/Chicago
BEGIN:DAYLIGHT
TZOFFSETFROM:-0600
TZOFFSETTO:-0500
TZNAME:CDT
DTSTART:20240310T080000
END:DAYLIGHT
BEGIN:STANDARD
TZOFFSETFROM:-0500
TZOFFSETTO:-0600
TZNAME:CST
DTSTART:20241103T070000
END:STANDARD
BEGIN:DAYLIGHT
TZOFFSETFROM:-0600
TZOFFSETTO:-0500
TZNAME:CDT
DTSTART:20250309T080000
END:DAYLIGHT
BEGIN:STANDARD
TZOFFSETFROM:-0500
TZOFFSETTO:-0600
TZNAME:CST
DTSTART:20251102T070000
END:STANDARD
BEGIN:DAYLIGHT
TZOFFSETFROM:-0600
TZOFFSETTO:-0500
TZNAME:CDT
DTSTART:20260308T080000
END:DAYLIGHT
BEGIN:STANDARD
TZOFFSETFROM:-0500
TZOFFSETTO:-0600
TZNAME:CST
DTSTART:20261101T070000
END:STANDARD
BEGIN:DAYLIGHT
TZOFFSETFROM:-0600
TZOFFSETTO:-0500
TZNAME:CDT
DTSTART:20270314T080000
END:DAYLIGHT
BEGIN:STANDARD
TZOFFSETFROM:-0500
TZOFFSETTO:-0600
TZNAME:CST
DTSTART:20271107T070000
END:STANDARD
END:VTIMEZONE
BEGIN:VEVENT
DTSTART;TZID=America/Chicago:20251001T093000
DTEND;TZID=America/Chicago:20251001T133000
DTSTAMP:20260421T033113
CREATED:20250521T163228Z
LAST-MODIFIED:20250521T163229Z
UID:10002805-1759311000-1759325400@www.minntran.org
SUMMARY:DREAM Technical Academy
DESCRIPTION:
URL:https://www.minntran.org/event/dream-technical-academy/
LOCATION:DREAM Technical Academy\, 1705 16th St NE\, Willmar\, Minnesota\, 56201
CATEGORIES:Career Exploration Trailer
END:VEVENT
BEGIN:VEVENT
DTSTART;TZID=America/Chicago:20251003T083000
DTEND;TZID=America/Chicago:20251003T133000
DTSTAMP:20260421T033113
CREATED:20250127T170447Z
LAST-MODIFIED:20250127T170449Z
UID:10002768-1759480200-1759498200@www.minntran.org
SUMMARY:ADAS101 - Newgate School
DESCRIPTION:
URL:https://www.minntran.org/event/adas101-newgate-school/
LOCATION:Newgate School\, 2900 East Hennepin Avenue\, Minneapolis\, Minnesota
CATEGORIES:Presentation
END:VEVENT
BEGIN:VEVENT
DTSTART;TZID=America/Chicago:20251008T080000
DTEND;TZID=America/Chicago:20251008T120000
DTSTAMP:20260421T033113
CREATED:20250904T150116Z
LAST-MODIFIED:20250904T150117Z
UID:10002829-1759910400-1759924800@www.minntran.org
SUMMARY:ADAS 101 - DCTC
DESCRIPTION:
URL:https://www.minntran.org/event/adas-101-dctc/
LOCATION:Dakota County Technical College\, 1300 145th Street East\, Rosemount\, MN\, 55068\, United States
CATEGORIES:Presentation
END:VEVENT
BEGIN:VEVENT
DTSTART;TZID=America/Chicago:20251010T100000
DTEND;TZID=America/Chicago:20251010T130000
DTSTAMP:20260421T033113
CREATED:20250507T180705Z
LAST-MODIFIED:20250521T161908Z
UID:10002800-1760090400-1760101200@www.minntran.org
SUMMARY:Anoka College and Career Days
DESCRIPTION:
URL:https://www.minntran.org/event/anoka-college-and-career-days/
LOCATION:Anoka Technical College\, 1355 US-10\, Anoka\, MN\, 55303\, United States
CATEGORIES:Career Exploration Trailer
END:VEVENT
BEGIN:VEVENT
DTSTART;TZID=America/Chicago:20251013T070000
DTEND;TZID=America/Chicago:20251013T143000
DTSTAMP:20260421T033113
CREATED:20250909T155235Z
LAST-MODIFIED:20250909T155236Z
UID:10002830-1760338800-1760365800@www.minntran.org
SUMMARY:Wright Technical Center Career Fair
DESCRIPTION:
URL:https://www.minntran.org/event/wright-technical-center-career-fair/
LOCATION:Wright Technical Center\, 1405 3rd Ave NE\, Buffalo\, MN\, 55313\, United States
CATEGORIES:Community Submitted Event
END:VEVENT
BEGIN:VEVENT
DTSTART;TZID=America/Chicago:20251013T090000
DTEND;TZID=America/Chicago:20251013T130000
DTSTAMP:20260421T033113
CREATED:20250205T172935Z
LAST-MODIFIED:20250214T161251Z
UID:10002772-1760346000-1760360400@www.minntran.org
SUMMARY:Jefferson HS Trailer Event
DESCRIPTION:
URL:https://www.minntran.org/event/jefferson-hs-trailer-event/
LOCATION:Jefferson High School\, 4001 W 102nd St\, Minneapolis\, MN\, 55437
CATEGORIES:Career Exploration Trailer
END:VEVENT
BEGIN:VEVENT
DTSTART;TZID=America/Chicago:20251015T073000
DTEND;TZID=America/Chicago:20251015T123000
DTSTAMP:20260421T033113
CREATED:20250423T152538Z
LAST-MODIFIED:20250423T152539Z
UID:10002797-1760513400-1760531400@www.minntran.org
SUMMARY:Chisago Lakes High School Career and Technical Education Fair
DESCRIPTION:
URL:https://www.minntran.org/event/chisago-lakes-high-school-career-and-technical-education-fair/
LOCATION:Chisago Lakes High School\, 29400 Olinda Trail\, Lindstrom\, MN\, 55045
CATEGORIES:Career Exploration Trailer
END:VEVENT
BEGIN:VEVENT
DTSTART;TZID=America/Chicago:20251015T083000
DTEND;TZID=America/Chicago:20251015T153000
DTSTAMP:20260421T033113
CREATED:20250507T181345Z
LAST-MODIFIED:20250507T181410Z
UID:10002803-1760517000-1760542200@www.minntran.org
SUMMARY:Fergus Falls High School College & Career Fair
DESCRIPTION:Time is TBD.
URL:https://www.minntran.org/event/fergus-falls-high-school-college-career-fair/
LOCATION:Fergus Falls High School\, 601 Randolph Ave\, Fergus Falls\, Minnesota\, 56537
CATEGORIES:Community Submitted Event
END:VEVENT
BEGIN:VEVENT
DTSTART;TZID=America/Chicago:20251020T090000
DTEND;TZID=America/Chicago:20251020T160000
DTSTAMP:20260421T033113
CREATED:20250521T162921Z
LAST-MODIFIED:20250521T162924Z
UID:10002804-1760950800-1760976000@www.minntran.org
SUMMARY:Automotive Career Day at Mariner Middle School
DESCRIPTION:
URL:https://www.minntran.org/event/automotive-career-day-at-mariner-middle-school/
LOCATION:Mariner Middle School\, 3551 McKnight Rd N\, White Bear Lake\, Minnesota\, 55110
CATEGORIES:Career Exploration Trailer
END:VEVENT
BEGIN:VEVENT
DTSTART;TZID=America/Chicago:20251021T090000
DTEND;TZID=America/Chicago:20251021T130000
DTSTAMP:20260421T033113
CREATED:20250205T173157Z
LAST-MODIFIED:20250421T202423Z
UID:10002773-1761037200-1761051600@www.minntran.org
SUMMARY:Kennedy HS Trailer Event
DESCRIPTION:
URL:https://www.minntran.org/event/kennedy-hs-trailer-event/
LOCATION:Kennedy High School\, 9701 Nicollet Ave\, Bloomington\, Minnesota\, 55420
CATEGORIES:Career Exploration Trailer
END:VEVENT
BEGIN:VEVENT
DTSTART;TZID=America/Chicago:20251024T080000
DTEND;TZID=America/Chicago:20251024T140000
DTSTAMP:20260421T033113
CREATED:20250730T141024Z
LAST-MODIFIED:20250730T141025Z
UID:10002816-1761292800-1761314400@www.minntran.org
SUMMARY:SCTCC EPIC Event
DESCRIPTION:
URL:https://www.minntran.org/event/sctcc-epic-event/
LOCATION:St. Cloud Tecnical and Community College\, 1540 Northway Dr\, St. Cloud\, MN\, 56303\, United States
CATEGORIES:Career Exploration Trailer
END:VEVENT
BEGIN:VEVENT
DTSTART;TZID=America/Chicago:20251027T123000
DTEND;TZID=America/Chicago:20251027T153000
DTSTAMP:20260421T033113
CREATED:20250917T125012Z
LAST-MODIFIED:20250917T125309Z
UID:10002831-1761568200-1761579000@www.minntran.org
SUMMARY:ADAS101 Moorhead High School
DESCRIPTION:
URL:https://www.minntran.org/event/adas101-moorhead-high-school/
LOCATION:Moorhead Career Academy\, 2800 27th Ave S\, Moorhead\, Minnesota\, 56560
CATEGORIES:Presentation
END:VEVENT
BEGIN:VEVENT
DTSTART;TZID=America/Chicago:20251029T150000
DTEND;TZID=America/Chicago:20251029T190000
DTSTAMP:20260421T033113
CREATED:20250929T165413Z
LAST-MODIFIED:20250929T165414Z
UID:10002838-1761750000-1761764400@www.minntran.org
SUMMARY:ADAS101 - Hennepin Tech
DESCRIPTION:
URL:https://www.minntran.org/event/adas101-hennepin-tech-2/
LOCATION:Hennepin Technical College – Brooklyn Park\, 9000 Brooklyn Blvd\, Brooklyn Park\, Minnesota\, 55445
CATEGORIES:Presentation
END:VEVENT
BEGIN:VEVENT
DTSTART;TZID=America/Chicago:20251105T100000
DTEND;TZID=America/Chicago:20251105T140000
DTSTAMP:20260421T033113
CREATED:20250813T125628Z
LAST-MODIFIED:20250917T125322Z
UID:10002818-1762336800-1762351200@www.minntran.org
SUMMARY:STEM Resource Fair
DESCRIPTION:Connect New Americans with experience or interest in technical\, scientific\, or industrial careers with employers\, colleges\, and career resources.
URL:https://www.minntran.org/event/stem-resource-fair/
LOCATION:MN
CATEGORIES:Booth/Exhibit
END:VEVENT
BEGIN:VEVENT
DTSTART;TZID=America/Chicago:20251110T080000
DTEND;TZID=America/Chicago:20251110T120000
DTSTAMP:20260421T033113
CREATED:20250917T125250Z
LAST-MODIFIED:20250917T125251Z
UID:10002836-1762761600-1762776000@www.minntran.org
SUMMARY:EV101 DCTC
DESCRIPTION:
URL:https://www.minntran.org/event/ev101-dctc/
LOCATION:Dakota County Technical College\, 1300 145th Street East\, Rosemount\, MN\, 55068\, United States
CATEGORIES:Presentation
END:VEVENT
BEGIN:VEVENT
DTSTART;TZID=America/Chicago:20251112T080000
DTEND;TZID=America/Chicago:20251113T130000
DTSTAMP:20260421T033113
CREATED:20250813T125953Z
LAST-MODIFIED:20250813T125954Z
UID:10002820-1762934400-1763038800@www.minntran.org
SUMMARY:CTE Summit
DESCRIPTION:
URL:https://www.minntran.org/event/cte-summit/
LOCATION:MN
CATEGORIES:Booth/Exhibit
END:VEVENT
BEGIN:VEVENT
DTSTART;TZID=America/Chicago:20251112T130000
DTEND;TZID=America/Chicago:20251112T150000
DTSTAMP:20260421T033113
CREATED:20250813T125751Z
LAST-MODIFIED:20250813T125752Z
UID:10002819-1762952400-1762959600@www.minntran.org
SUMMARY:NSTA STEM Showcase
DESCRIPTION:
URL:https://www.minntran.org/event/nsta-stem-showcase/
LOCATION:Minneapolis Convention Center\, 1301 2nd Ave S\, Minneapolis\, MN\, 55403\, United States
CATEGORIES:Booth/Exhibit
END:VEVENT
BEGIN:VEVENT
DTSTART;TZID=America/Chicago:20251114T070000
DTEND;TZID=America/Chicago:20251114T110000
DTSTAMP:20260421T033113
CREATED:20250609T124318Z
LAST-MODIFIED:20250609T124319Z
UID:10002812-1763103600-1763118000@www.minntran.org
SUMMARY:ISA-TOPE at Riverland
DESCRIPTION:
URL:https://www.minntran.org/event/isa-tope-at-riverland-2/
LOCATION:Riverland Community College – Albert Lea Campus\, 2200 Riverland Dr\, Albert Lea\, MN\, 56007\, United States
CATEGORIES:Presentation
END:VEVENT
BEGIN:VEVENT
DTSTART;TZID=America/Chicago:20251120T073000
DTEND;TZID=America/Chicago:20251120T143000
DTSTAMP:20260421T033113
CREATED:20250813T173317Z
LAST-MODIFIED:20250813T173318Z
UID:10002821-1763623800-1763649000@www.minntran.org
SUMMARY:ADAS101 - Northeast metro 916
DESCRIPTION:
URL:https://www.minntran.org/event/adas101-northeast-metro-916/
LOCATION:Northeast Metro 916 Career and Tech Center\, 3300 Century Ave N\, White Bear Lake\, Minnesota\, 55110
CATEGORIES:Presentation
END:VEVENT
BEGIN:VEVENT
DTSTART;TZID=America/Chicago:20251120T090000
DTEND;TZID=America/Chicago:20251120T140000
DTSTAMP:20260421T033113
CREATED:20250624T160628Z
LAST-MODIFIED:20250819T132930Z
UID:10002813-1763629200-1763647200@www.minntran.org
SUMMARY:Northland Aerospace Open House
DESCRIPTION:
URL:https://www.minntran.org/event/northland-aerospace-open-house-2/
LOCATION:Northland Aerospace Campus\, 13892 Airport Drive\, Thief River Falls\, 56701
CATEGORIES:Community Submitted Event
END:VEVENT
BEGIN:VEVENT
DTSTART;TZID=America/Chicago:20251121T100000
DTEND;TZID=America/Chicago:20251121T130000
DTSTAMP:20260421T033113
CREATED:20250507T180739Z
LAST-MODIFIED:20250507T180740Z
UID:10002801-1763719200-1763730000@www.minntran.org
SUMMARY:Anoka College and Career Days
DESCRIPTION:
URL:https://www.minntran.org/event/anoka-college-and-career-days-2/
LOCATION:Anoka Technical College\, 1355 US-10\, Anoka\, MN\, 55303\, United States
CATEGORIES:Community Submitted Event
END:VEVENT
BEGIN:VEVENT
DTSTART;TZID=America/Chicago:20251202T073000
DTEND;TZID=America/Chicago:20251202T123000
DTSTAMP:20260421T033113
CREATED:20250813T173628Z
LAST-MODIFIED:20250813T173629Z
UID:10002822-1764660600-1764678600@www.minntran.org
SUMMARY:ADAS 101 - Century College
DESCRIPTION:
URL:https://www.minntran.org/event/adas-101-century-college-2/
LOCATION:Century College\, 3300 Century Ave N\, White Bear Lake\, MN\, 55110\, United States
CATEGORIES:Presentation
END:VEVENT
BEGIN:VEVENT
DTSTART;TZID=America/Chicago:20251204T090000
DTEND;TZID=America/Chicago:20251204T140000
DTSTAMP:20260421T033113
CREATED:20250923T124315Z
LAST-MODIFIED:20250923T124316Z
UID:10002837-1764838800-1764856800@www.minntran.org
SUMMARY:EV101 ASE High SChool Teachers
DESCRIPTION:
URL:https://www.minntran.org/event/ev101-ase-high-school-teachers/
LOCATION:Luther North Country Ford\, 10401 Woodcrest Drive NW.\, Coon Rapids\, Minnesota\, 55433
CATEGORIES:Presentation
END:VEVENT
BEGIN:VEVENT
DTSTART;TZID=America/Chicago:20251209T073000
DTEND;TZID=America/Chicago:20251209T123000
DTSTAMP:20260421T033113
CREATED:20250813T173751Z
LAST-MODIFIED:20250813T173752Z
UID:10002823-1765265400-1765283400@www.minntran.org
SUMMARY:EV101 - Century College
DESCRIPTION:
URL:https://www.minntran.org/event/ev101-century-college-2/
LOCATION:Century College\, 3300 Century Ave N\, White Bear Lake\, MN\, 55110\, United States
CATEGORIES:Presentation
END:VEVENT
BEGIN:VEVENT
DTSTART;TZID=America/Chicago:20251210T080000
DTEND;TZID=America/Chicago:20251210T110000
DTSTAMP:20260421T033113
CREATED:20250911T133329Z
LAST-MODIFIED:20250911T133331Z
UID:10002834-1765353600-1765364400@www.minntran.org
SUMMARY:EV101 - Hennepin Tech EP
DESCRIPTION:
URL:https://www.minntran.org/event/ev101-hennepin-tech-ep-2/
LOCATION:Hennepin Technical College – Eden Prarie Campus\, 13100 College View Dr\, Eden Prairie\, MN\, 55347\, United States
CATEGORIES:Presentation
END:VEVENT
BEGIN:VEVENT
DTSTART;TZID=America/Chicago:20251211T080000
DTEND;TZID=America/Chicago:20251211T140000
DTSTAMP:20260421T033113
CREATED:20251002T182801Z
LAST-MODIFIED:20251002T182803Z
UID:10002842-1765440000-1765461600@www.minntran.org
SUMMARY:EV101 - Northeast Metro 916
DESCRIPTION:
URL:https://www.minntran.org/event/ev101-northeast-metro-916-2/
LOCATION:Notheast Metro 916\, 3300 Century Ave N\, White Bear Lake\, Minnesota\, 55110
CATEGORIES:Presentation
END:VEVENT
BEGIN:VEVENT
DTSTART;TZID=America/Chicago:20251216T070000
DTEND;TZID=America/Chicago:20251216T110000
DTSTAMP:20260421T033113
CREATED:20251006T152524Z
LAST-MODIFIED:20251006T152527Z
UID:10002843-1765868400-1765882800@www.minntran.org
SUMMARY:ADAS101 - Saint Paul College
DESCRIPTION:
URL:https://www.minntran.org/event/adas101-saint-paul-college/
LOCATION:St. Paul College\, 235 Marshall Ave\, St Paul\, MN\, 55102
CATEGORIES:Presentation
END:VEVENT
BEGIN:VEVENT
DTSTART;TZID=America/Chicago:20260105T080000
DTEND;TZID=America/Chicago:20260105T150000
DTSTAMP:20260421T033113
CREATED:20251107T154714Z
LAST-MODIFIED:20251107T154715Z
UID:10002849-1767600000-1767625200@www.minntran.org
SUMMARY:Twin Cities Auto Show
DESCRIPTION:
URL:https://www.minntran.org/event/twin-cities-auto-show/
LOCATION:Minneapolis Convention Center\, 1301 2nd Ave S\, Minneapolis\, MN\, 55403\, United States
CATEGORIES:Career Exploration Trailer
END:VEVENT
BEGIN:VEVENT
DTSTART;TZID=America/Chicago:20260107T080000
DTEND;TZID=America/Chicago:20260107T150000
DTSTAMP:20260421T033113
CREATED:20251107T154806Z
LAST-MODIFIED:20251107T154807Z
UID:10002851-1767772800-1767798000@www.minntran.org
SUMMARY:Twin Cities Auto Show - Careers in Cars
DESCRIPTION:
URL:https://www.minntran.org/event/twin-cities-auto-show-careers-in-cars/
LOCATION:Minneapolis Convention Center\, 1301 2nd Ave S\, Minneapolis\, MN\, 55403\, United States
CATEGORIES:Career Exploration Trailer
END:VEVENT
BEGIN:VEVENT
DTSTART;TZID=America/Chicago:20260109T080000
DTEND;TZID=America/Chicago:20260109T150000
DTSTAMP:20260421T033113
CREATED:20251107T154829Z
LAST-MODIFIED:20251107T154830Z
UID:10002850-1767945600-1767970800@www.minntran.org
SUMMARY:Twin Cities Auto Show
DESCRIPTION:
URL:https://www.minntran.org/event/twin-cities-auto-show-2/
LOCATION:Minneapolis Convention Center\, 1301 2nd Ave S\, Minneapolis\, MN\, 55403\, United States
CATEGORIES:Career Exploration Trailer
END:VEVENT
END:VCALENDAR