BEGIN:VCALENDAR
VERSION:2.0
PRODID:-//Minnesota State Transportation Center of Excellence - ECPv6.15.20//NONSGML v1.0//EN
CALSCALE:GREGORIAN
METHOD:PUBLISH
X-ORIGINAL-URL:https://www.minntran.org
X-WR-CALDESC:Events for Minnesota State Transportation Center of Excellence
REFRESH-INTERVAL;VALUE=DURATION:PT1H
X-Robots-Tag:noindex
X-PUBLISHED-TTL:PT1H
BEGIN:VTIMEZONE
TZID:America/Chicago
BEGIN:DAYLIGHT
TZOFFSETFROM:-0600
TZOFFSETTO:-0500
TZNAME:CDT
DTSTART:20240310T080000
END:DAYLIGHT
BEGIN:STANDARD
TZOFFSETFROM:-0500
TZOFFSETTO:-0600
TZNAME:CST
DTSTART:20241103T070000
END:STANDARD
BEGIN:DAYLIGHT
TZOFFSETFROM:-0600
TZOFFSETTO:-0500
TZNAME:CDT
DTSTART:20250309T080000
END:DAYLIGHT
BEGIN:STANDARD
TZOFFSETFROM:-0500
TZOFFSETTO:-0600
TZNAME:CST
DTSTART:20251102T070000
END:STANDARD
BEGIN:DAYLIGHT
TZOFFSETFROM:-0600
TZOFFSETTO:-0500
TZNAME:CDT
DTSTART:20260308T080000
END:DAYLIGHT
BEGIN:STANDARD
TZOFFSETFROM:-0500
TZOFFSETTO:-0600
TZNAME:CST
DTSTART:20261101T070000
END:STANDARD
END:VTIMEZONE
BEGIN:VEVENT
DTSTART;TZID=America/Chicago:20250505T081500
DTEND;TZID=America/Chicago:20250505T113000
DTSTAMP:20260423T100545
CREATED:20250205T170227Z
LAST-MODIFIED:20250205T170228Z
UID:10002770-1746432900-1746444600@www.minntran.org
SUMMARY:North Branch Area High School Career Day
DESCRIPTION:
URL:https://www.minntran.org/event/north-branch-area-high-school-career-day-2/
LOCATION:North Branch High School\, 38175 Grand Ave\, North Branch\, MN\, 55056\, United States
CATEGORIES:Community Submitted Event
END:VEVENT
BEGIN:VEVENT
DTSTART;TZID=America/Chicago:20250508T082000
DTEND;TZID=America/Chicago:20250508T145000
DTSTAMP:20260423T100545
CREATED:20250116T141158Z
LAST-MODIFIED:20250116T141159Z
UID:10002765-1746692400-1746715800@www.minntran.org
SUMMARY:Monticello High School Career and Apprenticeship Fair
DESCRIPTION:
URL:https://www.minntran.org/event/monticello-high-school-career-and-apprenticeship-fair/
LOCATION:Monticello High School\, 5225 School Blvd\, Monticello\, MN\, 55362
CATEGORIES:Community Submitted Event
END:VEVENT
BEGIN:VEVENT
DTSTART;TZID=America/Chicago:20250513T080000
DTEND;TZID=America/Chicago:20250513T140000
DTSTAMP:20260423T100545
CREATED:20241126T163302Z
LAST-MODIFIED:20241126T163303Z
UID:10002749-1747123200-1747144800@www.minntran.org
SUMMARY:Waseca High School Immersive Career Fair 
DESCRIPTION:
URL:https://www.minntran.org/event/waseca-high-school-immersive-career-fair-2/
LOCATION:Waseca High School\, 1717 2nd St NW\, Waseca\, Minnesota\, 56093
CATEGORIES:Career Exploration Trailer
END:VEVENT
BEGIN:VEVENT
DTSTART;TZID=America/Chicago:20250515T093000
DTEND;TZID=America/Chicago:20250515T140000
DTSTAMP:20260423T100545
CREATED:20250102T184551Z
LAST-MODIFIED:20250102T184552Z
UID:10002761-1747301400-1747317600@www.minntran.org
SUMMARY:United South Central Trailer Event
DESCRIPTION:
URL:https://www.minntran.org/event/united-south-central-trailer-event/
LOCATION:United South Central\, 600 11th St. SW\, Wells\, Minnesota\, 56097
CATEGORIES:Career Exploration Trailer
END:VEVENT
BEGIN:VEVENT
DTSTART;TZID=America/Chicago:20250516T103000
DTEND;TZID=America/Chicago:20250516T130000
DTSTAMP:20260423T100545
CREATED:20250416T133115Z
LAST-MODIFIED:20250416T133116Z
UID:10002795-1747391400-1747400400@www.minntran.org
SUMMARY:Sauk Rapids-Rice Job Fair
DESCRIPTION:
URL:https://www.minntran.org/event/sauk-rapids-rice-job-fair/
LOCATION:MN
CATEGORIES:Community Submitted Event
END:VEVENT
BEGIN:VEVENT
DTSTART;TZID=America/Chicago:20250519T081500
DTEND;TZID=America/Chicago:20250519T151500
DTSTAMP:20260423T100545
CREATED:20250205T171031Z
LAST-MODIFIED:20250205T171032Z
UID:10002771-1747642500-1747667700@www.minntran.org
SUMMARY:Dakota Meadows MS Trailer Event
DESCRIPTION:
URL:https://www.minntran.org/event/dakota-meadows-ms-trailer-event/
LOCATION:MN
CATEGORIES:Career Exploration Trailer
END:VEVENT
BEGIN:VEVENT
DTSTART;TZID=America/Chicago:20250604T080000
DTEND;TZID=America/Chicago:20250604T120000
DTSTAMP:20260423T100545
CREATED:20250416T134308Z
LAST-MODIFIED:20250416T134309Z
UID:10002796-1749024000-1749038400@www.minntran.org
SUMMARY:EV101 - Goodwill Easter Seals
DESCRIPTION:
URL:https://www.minntran.org/event/ev101-goodwill-easter-seals-3/
LOCATION:Goodwill Easter Seals
CATEGORIES:Presentation
END:VEVENT
BEGIN:VEVENT
DTSTART;TZID=America/Chicago:20250609T090000
DTEND;TZID=America/Chicago:20250611T153000
DTSTAMP:20260423T100545
CREATED:20250327T162519Z
LAST-MODIFIED:20250327T162521Z
UID:10002793-1749459600-1749655800@www.minntran.org
SUMMARY:Nitro-X White Bear Lake
DESCRIPTION:
URL:https://www.minntran.org/event/nitro-x-white-bear-lake/
LOCATION:Century College\, 3300 Century Ave N\, White Bear Lake\, MN\, 55110\, United States
CATEGORIES:Nitro-X
END:VEVENT
BEGIN:VEVENT
DTSTART;TZID=America/Chicago:20250610T080000
DTEND;TZID=America/Chicago:20250610T150000
DTSTAMP:20260423T100545
CREATED:20241219T163137Z
LAST-MODIFIED:20241219T163139Z
UID:10002759-1749542400-1749567600@www.minntran.org
SUMMARY:Rochester Middle School Career Academy
DESCRIPTION:
URL:https://www.minntran.org/event/rochester-middle-school-career-academy-2/
LOCATION:Rochester Community and Technical College Heintz Center\, 1926 Collegeview Rd E\, Rochester\, MN\, 55904\, United States
CATEGORIES:Career Exploration Trailer
END:VEVENT
BEGIN:VEVENT
DTSTART;TZID=America/Chicago:20250616T090000
DTEND;TZID=America/Chicago:20250618T153000
DTSTAMP:20260423T100545
CREATED:20250306T161234Z
LAST-MODIFIED:20250306T161235Z
UID:10002783-1750064400-1750260600@www.minntran.org
SUMMARY:Nitro-X Hibbing
DESCRIPTION:
URL:https://www.minntran.org/event/nitro-x-hibbing/
LOCATION:Minnesota North College\, 1515 E 25th St\, Hibbing\, MN\, 55746\, United States
CATEGORIES:Nitro-X
END:VEVENT
BEGIN:VEVENT
DTSTART;TZID=America/Chicago:20250630T090000
DTEND;TZID=America/Chicago:20250703T150000
DTSTAMP:20260423T100545
CREATED:20250306T161329Z
LAST-MODIFIED:20250306T161342Z
UID:10002784-1751274000-1751554800@www.minntran.org
SUMMARY:Nitro-X Brainerd
DESCRIPTION:
URL:https://www.minntran.org/event/nitro-x-brainerd/
LOCATION:Central Lakes College – Brainerd Campus\, 501 W College Dr\, Brainerd\, MN\, 56401\, United States
CATEGORIES:Nitro-X
END:VEVENT
BEGIN:VEVENT
DTSTART;TZID=America/Chicago:20250714T090000
DTEND;TZID=America/Chicago:20250714T150000
DTSTAMP:20260423T100545
CREATED:20241126T163902Z
LAST-MODIFIED:20241216T215010Z
UID:10002750-1752483600-1752505200@www.minntran.org
SUMMARY:UofM National Summer Transportation Institute
DESCRIPTION:The trailer will be available from 12:30 – 2:30 PM.
URL:https://www.minntran.org/event/uofm-national-summer-transportation-institute/
LOCATION:MN
CATEGORIES:Career Exploration Trailer
END:VEVENT
BEGIN:VEVENT
DTSTART;TZID=America/Chicago:20250715T080000
DTEND;TZID=America/Chicago:20250717T150000
DTSTAMP:20260423T100545
CREATED:20250306T161511Z
LAST-MODIFIED:20250306T161513Z
UID:10002785-1752566400-1752764400@www.minntran.org
SUMMARY:Nitro-X Mankato
DESCRIPTION:
URL:https://www.minntran.org/event/nitro-x-mankato/
LOCATION:Minnesota State University\, Mankato\, 730 Maywood Ave\, Mankato\, MN\, 56001\, United States
CATEGORIES:Nitro-X
END:VEVENT
BEGIN:VEVENT
DTSTART;TZID=America/Chicago:20250715T120000
DTEND;TZID=America/Chicago:20250715T143000
DTSTAMP:20260423T100545
CREATED:20250507T180333Z
LAST-MODIFIED:20250507T180334Z
UID:10002799-1752580800-1752589800@www.minntran.org
SUMMARY:CareerOne Mini Career Fair at SCTCC
DESCRIPTION:
URL:https://www.minntran.org/event/careerone-mini-career-fair-at-sctcc/
LOCATION:St. Cloud Tecnical and Community College\, 1540 Northway Dr\, St. Cloud\, MN\, 56303\, United States
CATEGORIES:Community Submitted Event
END:VEVENT
BEGIN:VEVENT
DTSTART;TZID=America/Chicago:20250805T080000
DTEND;TZID=America/Chicago:20250807T170000
DTSTAMP:20260423T100545
CREATED:20241029T165229Z
LAST-MODIFIED:20241029T165231Z
UID:10002741-1754380800-1754586000@www.minntran.org
SUMMARY:MTTIA Conference
DESCRIPTION:
URL:https://www.minntran.org/event/mttia-conference/
LOCATION:Central Lakes College – Brainerd Campus\, 501 W College Dr\, Brainerd\, MN\, 56401\, United States
CATEGORIES:Conference
END:VEVENT
BEGIN:VEVENT
DTSTART;TZID=America/Chicago:20250912T080000
DTEND;TZID=America/Chicago:20250912T123000
DTSTAMP:20260423T100545
CREATED:20250904T145700Z
LAST-MODIFIED:20250904T145701Z
UID:10002828-1757664000-1757680200@www.minntran.org
SUMMARY:ADAS101 - M State
DESCRIPTION:
URL:https://www.minntran.org/event/adas101-m-state/
LOCATION:MInnesota State Community and Technical College – Moorhead\, 1900 28th Ave S\, Moorhead\, Minnesota\, 56560
CATEGORIES:Presentation
END:VEVENT
BEGIN:VEVENT
DTSTART;TZID=America/Chicago:20250917T090000
DTEND;TZID=America/Chicago:20250917T140000
DTSTAMP:20260423T100545
CREATED:20250205T184651Z
LAST-MODIFIED:20250205T184652Z
UID:10002775-1758099600-1758117600@www.minntran.org
SUMMARY:Blue Earth HS Trailer Event
DESCRIPTION:
URL:https://www.minntran.org/event/blue-earth-hs-trailer-event/
LOCATION:Blue Earth High School\, 1125 Highway 169\, Blue Earth\, Minnesota
CATEGORIES:Career Exploration Trailer
END:VEVENT
BEGIN:VEVENT
DTSTART;TZID=America/Chicago:20250918T073000
DTEND;TZID=America/Chicago:20250918T120000
DTSTAMP:20260423T100545
CREATED:20250521T163914Z
LAST-MODIFIED:20250521T163915Z
UID:10002806-1758180600-1758196800@www.minntran.org
SUMMARY:Walter Maginnis High School Career Fair
DESCRIPTION:
URL:https://www.minntran.org/event/walter-maginnis-high-school-career-fair/
LOCATION:MN
CATEGORIES:Career Exploration Trailer
END:VEVENT
BEGIN:VEVENT
DTSTART;TZID=America/Chicago:20250918T101500
DTEND;TZID=America/Chicago:20250918T143000
DTSTAMP:20260423T100545
CREATED:20250507T175849Z
LAST-MODIFIED:20250507T175850Z
UID:10002798-1758190500-1758205800@www.minntran.org
SUMMARY:Big Lake High School Career Fair
DESCRIPTION:
URL:https://www.minntran.org/event/big-lake-high-school-career-fair/
LOCATION:Big Lake High School\, 501 Minnesota Ave E\, Big Lake\, MN\, 55309\, United States
CATEGORIES:Community Submitted Event
END:VEVENT
BEGIN:VEVENT
DTSTART;TZID=America/Chicago:20250919T080000
DTEND;TZID=America/Chicago:20250919T140000
DTSTAMP:20260423T100545
CREATED:20250521T164410Z
LAST-MODIFIED:20250521T164411Z
UID:10002807-1758268800-1758290400@www.minntran.org
SUMMARY:CareerQuest Riverland
DESCRIPTION:
URL:https://www.minntran.org/event/careerquest-riverland/
LOCATION:Riverland Community College – Austin Campus\, 1900 8th Ave NW\, Austin\, MN\, 55912\, United States
CATEGORIES:Career Exploration Trailer
END:VEVENT
BEGIN:VEVENT
DTSTART;TZID=America/Chicago:20250922T080000
DTEND;TZID=America/Chicago:20250922T120000
DTSTAMP:20260423T100545
CREATED:20250507T180925Z
LAST-MODIFIED:20250507T180926Z
UID:10002802-1758528000-1758542400@www.minntran.org
SUMMARY:Bemidji Career Academies Career Fair
DESCRIPTION:Bring your interactive exhibits\, simulators\, activities\, and more! Hosted in the Bemidji High School athletic wing\, we utilize indoor and outdoor spaces to provide opportunities for our students grades 9-12 attend and learn more about your industry. 
URL:https://www.minntran.org/event/bemidji-career-academies-career-fair/
LOCATION:Bemidji High School\, 2900 Division Street NW\, Bemidji\, MN\, 56601\, United States
CATEGORIES:Community Submitted Event
END:VEVENT
BEGIN:VEVENT
DTSTART;TZID=America/Chicago:20250923T091500
DTEND;TZID=America/Chicago:20250923T121500
DTSTAMP:20260423T100545
CREATED:20250227T165821Z
LAST-MODIFIED:20250227T170018Z
UID:10002779-1758618900-1758629700@www.minntran.org
SUMMARY:SW MN Career Expo
DESCRIPTION:Register for a booth here: https://lyftcareerpathwaysatswwc.jotform.com/250054854792866
URL:https://www.minntran.org/event/sw-mn-career-expo-3/
LOCATION:Minnesota West Community & Technical – Worthington Campus\, 1450 College Way\, Worthington\, MN\, 56187\, United States
CATEGORIES:Community Submitted Event
END:VEVENT
BEGIN:VEVENT
DTSTART;TZID=America/Chicago:20250924T091500
DTEND;TZID=America/Chicago:20250924T122500
DTSTAMP:20260423T100545
CREATED:20250227T165942Z
LAST-MODIFIED:20250227T165943Z
UID:10002780-1758705300-1758716700@www.minntran.org
SUMMARY:SW MN Career Expo
DESCRIPTION:Register for a booth here: https://lyftcareerpathwaysatswwc.jotform.com/250054854792866
URL:https://www.minntran.org/event/sw-mn-career-expo-4/
LOCATION:Southwest Minnesota State University\, 1501 State St\, Marshall\, MN\, 56258\, United States
CATEGORIES:Community Submitted Event
END:VEVENT
BEGIN:VEVENT
DTSTART;TZID=America/Chicago:20250926T073000
DTEND;TZID=America/Chicago:20250926T160000
DTSTAMP:20260423T100545
CREATED:20250821T175833Z
LAST-MODIFIED:20250821T175834Z
UID:10002824-1758871800-1758902400@www.minntran.org
SUMMARY:MTEEA Conference
DESCRIPTION:
URL:https://www.minntran.org/event/mteea-conference/
LOCATION:Hilton Garden Inn St Cloud\, 550 Division St\, Waite Park\, MN\, 56387
CATEGORIES:Booth/Exhibit,Conference
END:VEVENT
BEGIN:VEVENT
DTSTART;TZID=America/Chicago:20251001T093000
DTEND;TZID=America/Chicago:20251001T133000
DTSTAMP:20260423T100545
CREATED:20250521T163228Z
LAST-MODIFIED:20250521T163229Z
UID:10002805-1759311000-1759325400@www.minntran.org
SUMMARY:DREAM Technical Academy
DESCRIPTION:
URL:https://www.minntran.org/event/dream-technical-academy/
LOCATION:DREAM Technical Academy\, 1705 16th St NE\, Willmar\, Minnesota\, 56201
CATEGORIES:Career Exploration Trailer
END:VEVENT
BEGIN:VEVENT
DTSTART;TZID=America/Chicago:20251003T083000
DTEND;TZID=America/Chicago:20251003T133000
DTSTAMP:20260423T100545
CREATED:20250127T170447Z
LAST-MODIFIED:20250127T170449Z
UID:10002768-1759480200-1759498200@www.minntran.org
SUMMARY:ADAS101 - Newgate School
DESCRIPTION:
URL:https://www.minntran.org/event/adas101-newgate-school/
LOCATION:Newgate School\, 2900 East Hennepin Avenue\, Minneapolis\, Minnesota
CATEGORIES:Presentation
END:VEVENT
BEGIN:VEVENT
DTSTART;TZID=America/Chicago:20251008T080000
DTEND;TZID=America/Chicago:20251008T120000
DTSTAMP:20260423T100545
CREATED:20250904T150116Z
LAST-MODIFIED:20250904T150117Z
UID:10002829-1759910400-1759924800@www.minntran.org
SUMMARY:ADAS 101 - DCTC
DESCRIPTION:
URL:https://www.minntran.org/event/adas-101-dctc/
LOCATION:Dakota County Technical College\, 1300 145th Street East\, Rosemount\, MN\, 55068\, United States
CATEGORIES:Presentation
END:VEVENT
BEGIN:VEVENT
DTSTART;TZID=America/Chicago:20251010T100000
DTEND;TZID=America/Chicago:20251010T130000
DTSTAMP:20260423T100545
CREATED:20250507T180705Z
LAST-MODIFIED:20250521T161908Z
UID:10002800-1760090400-1760101200@www.minntran.org
SUMMARY:Anoka College and Career Days
DESCRIPTION:
URL:https://www.minntran.org/event/anoka-college-and-career-days/
LOCATION:Anoka Technical College\, 1355 US-10\, Anoka\, MN\, 55303\, United States
CATEGORIES:Career Exploration Trailer
END:VEVENT
BEGIN:VEVENT
DTSTART;TZID=America/Chicago:20251013T070000
DTEND;TZID=America/Chicago:20251013T143000
DTSTAMP:20260423T100545
CREATED:20250909T155235Z
LAST-MODIFIED:20250909T155236Z
UID:10002830-1760338800-1760365800@www.minntran.org
SUMMARY:Wright Technical Center Career Fair
DESCRIPTION:
URL:https://www.minntran.org/event/wright-technical-center-career-fair/
LOCATION:Wright Technical Center\, 1405 3rd Ave NE\, Buffalo\, MN\, 55313\, United States
CATEGORIES:Community Submitted Event
END:VEVENT
BEGIN:VEVENT
DTSTART;TZID=America/Chicago:20251013T090000
DTEND;TZID=America/Chicago:20251013T130000
DTSTAMP:20260423T100545
CREATED:20250205T172935Z
LAST-MODIFIED:20250214T161251Z
UID:10002772-1760346000-1760360400@www.minntran.org
SUMMARY:Jefferson HS Trailer Event
DESCRIPTION:
URL:https://www.minntran.org/event/jefferson-hs-trailer-event/
LOCATION:Jefferson High School\, 4001 W 102nd St\, Minneapolis\, MN\, 55437
CATEGORIES:Career Exploration Trailer
END:VEVENT
END:VCALENDAR